BEGIN:VCALENDAR
VERSION:2.0
CALSCALE:GREGORIAN
X-WR-CALNAME:Kinderwallfahrt
PRODID:PHP
METHOD:PUBLISH
BEGIN:VEVENT
CREATED:20260120T232450
SUMMARY:Kinderwallfahrt
DTSTART;TZID=Europe/Berlin:20260612T000000
DTEND;TZID=Europe/Berlin:20260613T235900
DESCRIPTION:„Wie fühlt es sich an, wenn Dir der Heilige Geist um die Ohren fliegt“
Zwischen Wittichenau und Rosenthal wollen wir uns nicht nur den Wind um die Ohren wehen lassen, sondern auch den Heiligen Geist. Wir werden der Frage nachgehen, wie es sich anfühlt, wenn der Heilige Geist wirkt und wo wir ihn spüren können. Dabei werden Gemeinschaft, Gesang, Gebet, Spiel und Freude nicht zu kurz kommen, also sei dabei!
Ort: Wittichenau–Rosenthal  Für: Kinder der 1. bis 7. Klasse Anmeldung: über die Pfarrgemeinde | Ansprechpartner: Pfarrer Noack
LOCATION:Wittichenau/Rosenthal
UID:bdkj_69e57ae293435
SEQUENCE:0
DTSTAMP:20260120T232400
END:VEVENT
END:VCALENDAR