BEGIN:VCALENDAR
VERSION:2.0
CALSCALE:GREGORIAN
X-WR-CALNAME:Ferienfreizeit Caritas
PRODID:PHP
METHOD:PUBLISH
BEGIN:VEVENT
CREATED:20260121T132521
SUMMARY:Ferienfreizeit Caritas
DTSTART;TZID=Europe/Berlin:20260724T000000
DTEND;TZID=Europe/Berlin:20260802T235900
DESCRIPTION:Noch nichts vor in den Sommerferien? – Dann lass doch einfach mal die Seele am Meer baumeln und sei bei der Ferienfreizeit in Zinnowitz dabei. Es warten auf Dich 8 tolle Tage mit anderen Kindern und ein buntes Programm mit viel Spaß, Action und Sonnenschein.
Ort: Zinnowitz Für: Kinder von 7 bis 14 Jahren
Infos: Caritas-Ferienzeit in Zinnowitz
Anmeldung: Anmeldung eines Kindes zur Caritas-Ferienzeit 2025
Email: &#x6B;&#111;&#x6E;&#116;&#x61;&#x6B;&#x74;&#64;&#99;&#97;&#114;&#x69;&#116;&#97;&#115;&#45;&#x67;&#111;&#101;&#x72;&#108;&#x69;&#x74;&#x7A;&#46;&#100;&#x65; | Ansprechpartner: Caritas
LOCATION:Zinnowitz
UID:bdkj_69eb3c5c21f3a
SEQUENCE:0
DTSTAMP:20260121T132500
END:VEVENT
END:VCALENDAR